BEGIN:VCALENDAR
VERSION:2.0
PRODID:http://www.bistum-aachen.de
BEGIN:VEVENT
UID:b511449f-b098-11ef-b826-0242ac11002b-1735405200000-de
DTSTAMP:20241202T103219Z
DTSTART:20241228T170000Z
SUMMARY;LANGUAGE=de:Weihnachtsoratorium Kantaten I-III | Johann Sebastian Bach 
DESCRIPTION;LANGUAGE=de:Am Samstag\, 28. Dezember um 18 Uhr erklingt mit J. S. Bachs Weihnachtsoratorium eines der bekanntesten oratorischen Werke in der Propsteikirche St. Gangolf in Heinsberg.
LOCATION;LANGUAGE=de:Propsteikirche St. Gangolf Heinsberg\, Kirchberg 10\, 52525 Heinsberg
IMAGE;VALUE=URI;DISPLAY=BADGE;FMTTYPE=image/jpeg:http://www.bistum-aachen.dehttps://gdg-hsw.de/export/sites/region-heinsberg/gdg-heinsberg-waldfeucht/.galleries/images/2024-11-18-Plakat-Weihnachts-Oratorium-Bach-Heinsberg-.jpg
END:VEVENT
END:VCALENDAR
