BEGIN:VCALENDAR
VERSION:2.0
PRODID:http://www.bistum-aachen.de
BEGIN:VEVENT
UID:68873eae-3c9a-11f1-b997-0242ac11002b-1779901200000-de
DTSTAMP:20260420T092210Z
DTSTART:20260527T170000Z
DTEND:20260527T190000Z
SUMMARY;LANGUAGE=de:Lesung und Gesprächsabend mit Annette Jantzen
DESCRIPTION;LANGUAGE=de:zu den Büchern „Keks dazu“ und „Die ignorierten Frauen der Bibel“ in Zusammenarbeit mit dem Team „Lichtblick“. Für das leibliche Wohl ist gesorgt; eine Spende zur Kostendeckung wird erbeten. Eine Anmeldung ist nicht notwendig!
LOCATION;LANGUAGE=de:„Alte Kirche“\, Düren-Derichsweiler\, Martinusstraße\, 52355 Düren-Derichsweiler
IMAGE;VALUE=URI;DISPLAY=BADGE;FMTTYPE=image/jpeg:http://www.bistum-aachen.de/export/sites/Bistum-Aachen/portal-bistum-aachen/.galleries/images/Anette-Jantzen-Copyright-Bistum-Aachen-Martin-Braun.jpg
END:VEVENT
END:VCALENDAR
